BEGIN:VCALENDAR
VERSION:2.0
PRODID:icalendar-ruby
CALSCALE:GREGORIAN
METHOD:PUBLISH
BEGIN:VEVENT
DTSTAMP:20260422T113228Z
UID:49-548598@christwallawalla.org
DTSTART:20260503T230000Z
DTEND:20260504T000000Z
CLASS:PUBLIC
CREATED:20260421T104335
DESCRIPTION:Join us for kickball. All ages. All generations. 
LAST-MODIFIED:20260421T104335
LOCATION:church back yard
SUMMARY:All Ages Kickball
URL;VALUE=URI:https://www.christwallawalla.org/events/all-ages-kickball/202
 6-05-03
ATTACH;FILENAME=2026-04-17-20.14.09.png;FMTTYPE=image/png:https://dq5pwpg1q
 8ru0.cloudfront.net/2026/04/21/17/43/16/56fe7f32-7b26-4aa1-ad7b-6e3ff69e85
 3b/2026-04-17-20.14.09.png
END:VEVENT
END:VCALENDAR
